BEGIN:VCALENDAR
VERSION:2.0
METHOD:PUBLISH
PRODID:-//Telerik Inc.//Sitefinity CMS 14.4//EN
BEGIN:VTIMEZONE
TZID:Eastern Standard Time
BEGIN:STANDARD
DTSTART:20251102T020000
RRULE:FREQ=YEARLY;BYDAY=1SU;BYHOUR=2;BYMINUTE=0;BYMONTH=11
TZNAME:Eastern Standard Time
TZOFFSETFROM:-0400
TZOFFSETTO:-0500
END:STANDARD
BEGIN:DAYLIGHT
DTSTART:20250301T020000
RRULE:FREQ=YEARLY;BYDAY=2SU;BYHOUR=2;BYMINUTE=0;BYMONTH=3
TZNAME:Eastern Daylight Time
TZOFFSETFROM:-0500
TZOFFSETTO:-0400
END:DAYLIGHT
END:VTIMEZONE
BEGIN:VEVENT
DESCRIPTION:Topic: Professional Development Council MeetingTime: This is a 
 recurring meeting Meet anytimeJoin Zoom Meetinghttps://us06web.zoom.us/j/8
 5239447999?pwd=b21VYUFrWVhPNGI0Z25WaWJuWm9OUT09  Meeting ID: 852 3944 7999
 Passcode: 492733
DTEND:20260507T003000Z
DTSTAMP:20260422T153803Z
DTSTART:20260506T230000Z
LOCATION:
SEQUENCE:0
SUMMARY:PDC Meeting
UID:RFCALITEM639124690832893870
X-ALT-DESC;FMTTYPE=text/html:<div>Topic: Professional Development Council M
 eeting</div><div>Time: This is a recurring meeting Meet anytime</div><div>
 Join Zoom Meeting</div><div><a href="https://us06web.zoom.us/j/85239447999
 ?pwd=b21VYUFrWVhPNGI0Z25WaWJuWm9OUT09">https://us06web.zoom.us/j/852394479
 99?pwd=b21VYUFrWVhPNGI0Z25WaWJuWm9OUT09</a>&nbsp\;&nbsp\;</div><div><br></
 div><div>Meeting ID: 852 3944 7999</div><div>Passcode: 492733</div><div><b
 r></div>
END:VEVENT
END:VCALENDAR
